BEGIN:VCALENDAR
VERSION:2.0
PRODID:-//Hippocampus Magazine - ECPv6.15.17.1//NONSGML v1.0//EN
CALSCALE:GREGORIAN
METHOD:PUBLISH
X-WR-CALNAME:Hippocampus Magazine
X-ORIGINAL-URL:https://www.hippocampusmagazine.com
X-WR-CALDESC:Events for Hippocampus Magazine
REFRESH-INTERVAL;VALUE=DURATION:PT1H
X-Robots-Tag:noindex
X-PUBLISHED-TTL:PT1H
BEGIN:VTIMEZONE
TZID:America/New_York
BEGIN:DAYLIGHT
TZOFFSETFROM:-0500
TZOFFSETTO:-0400
TZNAME:EDT
DTSTART:20240310T070000
END:DAYLIGHT
BEGIN:STANDARD
TZOFFSETFROM:-0400
TZOFFSETTO:-0500
TZNAME:EST
DTSTART:20241103T060000
END:STANDARD
BEGIN:DAYLIGHT
TZOFFSETFROM:-0500
TZOFFSETTO:-0400
TZNAME:EDT
DTSTART:20250309T070000
END:DAYLIGHT
BEGIN:STANDARD
TZOFFSETFROM:-0400
TZOFFSETTO:-0500
TZNAME:EST
DTSTART:20251102T060000
END:STANDARD
BEGIN:DAYLIGHT
TZOFFSETFROM:-0500
TZOFFSETTO:-0400
TZNAME:EDT
DTSTART:20260308T070000
END:DAYLIGHT
BEGIN:STANDARD
TZOFFSETFROM:-0400
TZOFFSETTO:-0500
TZNAME:EST
DTSTART:20261101T060000
END:STANDARD
END:VTIMEZONE
BEGIN:VEVENT
DTSTART;VALUE=DATE:20250816
DTEND;VALUE=DATE:20250818
DTSTAMP:20260420T095825
CREATED:20250622T220031Z
LAST-MODIFIED:20250809T190650Z
UID:64784-1755302400-1755475199@www.hippocampusmagazine.com
SUMMARY:HippoCamp Online Weekend 2025: Multiple Events [Ticket Package Page]
DESCRIPTION: If you are having trouble checking out\, you may now also purchase a registration at our Books website]. \nRegistered attendees will get access to event recordings for 30 days. \n“HippoCamp Online Weekend” will include four separate webinar events\, plus evening “chill and chats\,” which will be informal Zoom meetings that allow registered attendees to connect and reflect. New this year are optional deep dives. \nAt a Glance: An Overview of the Weekend’s Events\nA brief description and links to each individual event page for registering. \n\n\n\nEVENT\nDAY & TIME – all times are ET\nDETAILS & REGISTRATION\n\n\nHippoCamp Minis: Craft \nFive 10-minute sessions on craft-based topics specific or relevant to creative nonfiction. \nSaturday\, 11 a.m. to 12:30 p.m.\n$25\, register or see details here\n\n\nA Night of Nonfiction: Debut CNF Author Readers & Discussion \nReadings from five debut authors\, plus a featured reader\, followed by a discussion and audience Q&A.\nSaturday\, 6-8 p.m.\nDonate what-you-can ($10 suggested)\, register or see details here\n\n\nHippoCamp Minis: Publishing & Promotion \nFive 10-minute sessions on getting your work out there. \nSunday\, 11 a.m. to 12:30 p.m.\n$25\, register or see details here\n\n\nAn Evening With the Editors: Lit Mag & Small Press Roundtable \nA moderated discussion with five lit mag and small press editors\, followed by an audience Q&A.\nSunday\, 6-8 p.m.\n$25\, register or see details here\n\n\nOPTIONAL ADD-ONS (Not part of weekend ticket package)\nDAY & TIME – all times are ET\nDETAILS & REGISTRATION\n\n\nDeep Dives (purchase separately) \n90-minute\, interactive session in meeting format. Seating limited. \nSaturday\, 2 to 3:30 p.m.\nSunday\, 2 to 3:30 p.m.\n$50\, view details: \nSat. – Improv for Writers \nSun. option 1 – Where Grief Becomes Art\nSun. option 2 – Comics & Graphic Memoir\n\n\n\nPURCHASE WEEKEND PACKAGE TICKETS\nPurchase a ticket at our books website\, here\, if this form is giving you difficulty. \nYou may purchase a ticket for the entire weekend here. Note: First\, select quantity using (+) sign and then add to cart.
URL:https://www.hippocampusmagazine.com/event/hippocamp-online-weekend-2025/
LOCATION:Online (Zoom Webinar)
CATEGORIES:Conference,Hippo Organizing
ATTACH;FMTTYPE=image/png:https://www.hippocampusmagazine.com/wp-content/uploads/2025/01/2025-online-event-.png
ORGANIZER;CN="Hippocampus Magazine and Books":MAILTO:hippocampusmagazine@gmail.com
END:VEVENT
BEGIN:VEVENT
DTSTART;TZID=America/New_York:20250816T140000
DTEND;TZID=America/New_York:20250816T153000
DTSTAMP:20260420T095825
CREATED:20250710T205310Z
LAST-MODIFIED:20250731T184416Z
UID:64974-1755352800-1755358200@www.hippocampusmagazine.com
SUMMARY:Deep Dive: Improvisation for Writers (Saturday\, Option 1)
DESCRIPTION:New this year\, we’re holding two intensive/generative 90-minute workshops each day; these are NOT included in the main ticket package and require separate registration.  \n **If you are having trouble checking out** you may now also purchase a registration at our Books website — this is a temporary workaround until our magazine website issue is resolved.  \n\nDo you want to take your writing to new places? Could you benefit from more freedom\, confidence\, courage\, and joy in your writing practice? Would you like to loosen up and shake up your old patterns and habits so you can make new discoveries? \nIn this experiential\, unique\, fun\, and instantly applicable workshop\, you’ll learn principles and skills of improvisation that can help you supercharge your writing work. You’ll discover how thinking like an improviser can help you generate and develop ideas; create peace and acceptance with where you are in your process; expand into new territory; and reach writing goals more effectively and with greater ease. \nCreate new connections and develop your creative infrastructure in a safe\, structured\, zero-performance\, introvert-friendly\, no-experience-necessary environment. Elevate your craft as you break down inner blocks to your creativity. Put your new insights into practice during the workshop and see how the principles translate to the page in real time. \nNo matter your writing style or genre\, whether you’re a plotter or a pantser\, you’ll leave the session ready to use the concepts and skills you’ve learned to venture boldly forward in your writing. \nYou will learn how to: \n\nRecognize and loosen unconscious patterns that shut down creativity\, presence\, and positive risk-taking.\nDeal more effectively with your inner critic and reduce the perfectionism that keeps you stuck and sabotages your momentum.\nTap into beginner’s mind so that you can continue to stretch and expand\, no matter where you are in your process or career.\nExperience more joy\, playfulness\, and resourcefulness as you venture boldly into the unknown.\n\nAbout the speaker: \nCarrie Spaulding is a coach\, speaker\, facilitator\, educator\, artist\, writer\, nomad\, improviser\, and human. Specializing in creative and experiential approaches\, Carrie facilitates real-time growth\, empowering participants with improved skills and instantly applicable tools and strategies. \nIn Carrie’s innovative group programs The Lab and The Life Workshop and her private coaching as The Thirtysomething Coach®\, Carrie helps people do what matters to them and create careers\, relationships\, and lives they love. \nIn 2018\, Carrie began a nomadic adventure across the United States\, deepening her ability to foster presence\, adaptability\, creativity\, and connection in ever-changing environments. \nLearn more about Carrie at carriespaulding.com.\nConnect at @carriespaulding and https://www.linkedin.com/in/carriespaulding/.\nContact Carrie at carrie.spaulding@gmail.com. \n\n\nTICKET INFO\nThis session is limited to 20 attendees for optimal engagement with speaker and each other. Note: Deep Dives are using the Zoom meeting format where all attendees will be on screen.
URL:https://www.hippocampusmagazine.com/event/deep-dive-improv-for-writers-carrie-spaulding/
LOCATION:Online (Zoom Webinar)
CATEGORIES:Conference,Craft,Hippo Organizing
ATTACH;FMTTYPE=image/png:https://www.hippocampusmagazine.com/wp-content/uploads/2025/07/deep-dives-500-x-500-px.png
ORGANIZER;CN="Hippocampus Magazine and Books":MAILTO:hippocampusmagazine@gmail.com
END:VEVENT
BEGIN:VEVENT
DTSTART;TZID=America/New_York:20250817T140000
DTEND;TZID=America/New_York:20250817T153000
DTSTAMP:20260420T095825
CREATED:20250707T214506Z
LAST-MODIFIED:20250731T192213Z
UID:64906-1755439200-1755444600@www.hippocampusmagazine.com
SUMMARY:Deep Dive: Writing from the Heart: Where Grief Becomes Art (Sunday\, Option 2)
DESCRIPTION:New this year\, we’re holding two intensive/generative 90-minute workshops each day; these are NOT included in the main ticket package and require separate registration.  \n **If you are having trouble checking out** you may now also purchase a registration at our Books website — this is a temporary workaround until our magazine website issue is resolved.  \n\nGrief\, though universal\, makes us uncomfortable\, especially when complicated by circumstances associated with shame or stigma. During this ninety-minute workshop\, memoirists Melanie Brooks and Eileen Vorbach Collins\, will discuss how giving words to hard stories — one about suicide loss\, the other about HIV/AIDS — allowed them to remap their losses\, process their experiences\, and explore life in the new normal after loss. \nModerated by Lisa Cooper Ellison\, a trauma-informed writing coach\, the session will open with short readings by the authors. Together\, they’ll discuss the personal and cultural challenges of telling grief stories\, how they used writing to process their experiences\, and the writing lessons they learned along the way. The workshop will include a short\, guided writing exercise\, time for participants to share\, and a Q&A session. \nAbout the speakers:  \nMelanie Brooks\nMelanie Brooks is the author of A Hard Silence and Writing Hard Stories. She teaches creative nonfiction in the MFA programs at Bay Path University and Western Connecticut State University and professional writing at Northeastern University. She holds an MFA in creative nonfiction from the University of Southern Maine and a certificate in Narrative Medicine from Columbia University. Her essays and interviews have been published in The Boston Globe\, HuffPost\, Yankee\, The Washington Post\, Ms.\, Psychology Today\, The Globe and Mail\, and other notable publications. She lives in New Hampshire. \n\nEileen Vorbach Collins\nEileen Vorbach Collins writes true stories she wishes were fiction and fairy tales she wishes were true. Her essays have received the Diana Woods Memorial Award for Creative Nonfiction\, The Gabriele Rico Challenge Award\, a Glenna Luschei Prairie Schooner Award\, and two Pushcart Prize nominations.  Her essay collection\, Love in the Archives\, a Patchwork of True Stories About Suicide Loss\, published in 2023\, was a Foreword Indies Finalist and received a Pencraft Award for Literary Excellence and the Sarton Women’s Book Award for memoir. \n\nLisa Cooper Ellison\nLisa Cooper Ellison is an author\, speaker\, trauma-informed writing coach\, and host of the Writing Your Resilience podcast. She works at the intersection of storytelling and healing\, blending personal experience with suicide loss and complex PTSD with clinical training to help writers transform difficult experiences into powerful art. Her essays and stories have appeared on Risk! and in The New York Times\, HuffPost\, Hippocampus Magazine\, Kenyon Review Online\, and other notable outlets. \n\nThis session is limited to 20 attendees for optimal engagement with speakers and each other. Note: Deep Dives are using the Zoom meeting format where all attendees will be on screen.  \n\nTICKET INFO
URL:https://www.hippocampusmagazine.com/event/deep-dive-grief-2025-sunday/
LOCATION:Online (Zoom Webinar)
CATEGORIES:Conference,Craft,Hippo Organizing,Online
ATTACH;FMTTYPE=image/png:https://www.hippocampusmagazine.com/wp-content/uploads/2025/07/deep-dives-500-x-500-px.png
ORGANIZER;CN="Hippocampus Magazine and Books":MAILTO:hippocampusmagazine@gmail.com
END:VEVENT
END:VCALENDAR