BEGIN:VCALENDAR
VERSION:2.0
PRODID:-//Hippocampus Magazine - ECPv6.15.20//NONSGML v1.0//EN
CALSCALE:GREGORIAN
METHOD:PUBLISH
X-WR-CALNAME:Hippocampus Magazine
X-ORIGINAL-URL:https://www.hippocampusmagazine.com
X-WR-CALDESC:Events for Hippocampus Magazine
REFRESH-INTERVAL;VALUE=DURATION:PT1H
X-Robots-Tag:noindex
X-PUBLISHED-TTL:PT1H
BEGIN:VTIMEZONE
TZID:America/New_York
BEGIN:DAYLIGHT
TZOFFSETFROM:-0500
TZOFFSETTO:-0400
TZNAME:EDT
DTSTART:20230312T070000
END:DAYLIGHT
BEGIN:STANDARD
TZOFFSETFROM:-0400
TZOFFSETTO:-0500
TZNAME:EST
DTSTART:20231105T060000
END:STANDARD
BEGIN:DAYLIGHT
TZOFFSETFROM:-0500
TZOFFSETTO:-0400
TZNAME:EDT
DTSTART:20240310T070000
END:DAYLIGHT
BEGIN:STANDARD
TZOFFSETFROM:-0400
TZOFFSETTO:-0500
TZNAME:EST
DTSTART:20241103T060000
END:STANDARD
BEGIN:DAYLIGHT
TZOFFSETFROM:-0500
TZOFFSETTO:-0400
TZNAME:EDT
DTSTART:20250309T070000
END:DAYLIGHT
BEGIN:STANDARD
TZOFFSETFROM:-0400
TZOFFSETTO:-0500
TZNAME:EST
DTSTART:20251102T060000
END:STANDARD
END:VTIMEZONE
BEGIN:VEVENT
DTSTART;TZID=America/New_York:20240305T180000
DTEND;TZID=America/New_York:20240305T193000
DTSTAMP:20260423T032015
CREATED:20231128T211309Z
LAST-MODIFIED:20240130T030812Z
UID:51952-1709661600-1709667000@www.hippocampusmagazine.com
SUMMARY:How-To Tuesday: Fact-Checking Family Stories: Using Research Tools in Memoir (Brandon Arvesen)
DESCRIPTION:It is no surprise to nonfiction writers that piecing together a memoir is a messy process. The word alone is problematic\, stemming from the French word “mémoire” meaning “memory” or “reminiscence.” At its core memoir is just that—a recollection of past events.\n\nWriting memoir demands that writers descend into memory and to engage readers with accurate and meaningful details. Writers and their subjects remember stories\, but are they accurate? Memory is flexible\, unreliable\, and vulnerable to hyperbole. How can any memoirist honestly engage in the process of telling true stories? \nThis talk emphasizes the essential use of reporting and research in narrative writing. Attendees will follow author\, editor\, and professor Brandon Arvesen as he traces a family myth about his own adoption from a reminiscence to reportable fact for a current in-process essay. This session will explore: \n\n\nHow meticulous and diligent research can lead to stronger narrative construction.\nEffective research practices for memoir writers with works in progress.\nA variety of online and in-person tools for tracking down sources\, fact checking\, recreating scenes\, and more.\nA string of questions and answers that helped Brandon take a story from apocryphal to factual.\n\n\nWe hope you will join us for this event. Remember: If you can’t make it live\, you can still register and watch the recording later. \nAbout the series: How-To Tuesdays are monthly talks on the craft of creative nonfiction\, publishing\, marketing and the writing life led by Hippocampus Magazine editors & contributors. Your registration helps fund our contributor payments and other costs associated with running our journal. \nMeet the Speaker\nBrandon Arvesen received an MFA in creative nonfiction from Goucher College\, an MA in writing from Johns Hopkins University\, and a BA in English with a concentration in secondary education from Goucher College. Prior to teaching at Colby-Sawyer\, Brandon taught at Goucher College\, in the Goucher College Prison Education Partnership and in the Baltimore City Public School System. He is the founding editor of 3cents Magazine and a contributing editor to True Magazine.
URL:https://www.hippocampusmagazine.com/event/how-to-tuesday-fact-checking-family-stories-using-research-tools-in-memoir-brandon-arvesen/
LOCATION:Online (Zoom Webinar)
CATEGORIES:Craft,Hippo Organizing,How-to Tuesdays,Online,Research
ATTACH;FMTTYPE=image/png:https://www.hippocampusmagazine.com/wp-content/uploads/2023/10/how-to-tuesday-brandon-e1701207303147.png
ORGANIZER;CN="Hippocampus Magazine and Books":MAILTO:hippocampusmagazine@gmail.com
END:VEVENT
END:VCALENDAR