BEGIN:VCALENDAR
VERSION:2.0
PRODID:-//Hippocampus Magazine - ECPv6.15.17.1//NONSGML v1.0//EN
CALSCALE:GREGORIAN
METHOD:PUBLISH
X-ORIGINAL-URL:https://www.hippocampusmagazine.com
X-WR-CALDESC:Events for Hippocampus Magazine
REFRESH-INTERVAL;VALUE=DURATION:PT1H
X-Robots-Tag:noindex
X-PUBLISHED-TTL:PT1H
BEGIN:VTIMEZONE
TZID:America/New_York
BEGIN:DAYLIGHT
TZOFFSETFROM:-0500
TZOFFSETTO:-0400
TZNAME:EDT
DTSTART:20250309T070000
END:DAYLIGHT
BEGIN:STANDARD
TZOFFSETFROM:-0400
TZOFFSETTO:-0500
TZNAME:EST
DTSTART:20251102T060000
END:STANDARD
BEGIN:DAYLIGHT
TZOFFSETFROM:-0500
TZOFFSETTO:-0400
TZNAME:EDT
DTSTART:20260308T070000
END:DAYLIGHT
BEGIN:STANDARD
TZOFFSETFROM:-0400
TZOFFSETTO:-0500
TZNAME:EST
DTSTART:20261101T060000
END:STANDARD
BEGIN:DAYLIGHT
TZOFFSETFROM:-0500
TZOFFSETTO:-0400
TZNAME:EDT
DTSTART:20270314T070000
END:DAYLIGHT
BEGIN:STANDARD
TZOFFSETFROM:-0400
TZOFFSETTO:-0500
TZNAME:EST
DTSTART:20271107T060000
END:STANDARD
END:VTIMEZONE
BEGIN:VEVENT
DTSTART;TZID=America/New_York:20260120T190000
DTEND;TZID=America/New_York:20260120T203000
DTSTAMP:20260419T225351
CREATED:20251209T222836Z
LAST-MODIFIED:20260120T184635Z
UID:66041-1768935600-1768941000@www.hippocampusmagazine.com
SUMMARY:HOW-TO TUESDAY: Minding Your C's -- Contrast\, Conflict and Change with Lillie Gardner
DESCRIPTION:In creative nonfiction\, truth is paramount — but crafting a good story is still essential. \nEnter the 3 C’s: contrast\, conflict and change are crucial for keeping our stories compelling for the reader. \n\nContrast leads to distinct characters and memorable moments.\nConflict comes with clear stakes and tension\, which bring momentum to the reading experience.\nChange is what we’re reading for: what happens\, how does it escalate\, and why is everything different because of it?\n\nIn this How-to session\, we’ll dive into these essential components of story and identify strategies to strengthen them in our own writing. Participants will leave with a checklist of questions to use when preparing their work for submission. \nAbout the series: How-To Tuesdays are monthly talks on the craft of creative nonfiction\, publishing\, marketing and the writing life led by Hippocampus Magazine editors & contributors. Your registration helps fund our contributor payments and other costs associated with running our journal. \nAbout the Speaker\n \nLillie Gardner is an award-winning writer from Minnesota who tells stories about women defying expectations. Most recently\, she’s written episodes for Wondery’s narrative podcast ‘Whose Amazing Life?’ As a screenwriter\, Lillie has been Winner at Austin Film Festival of the Women & Animation Fellowship Award\, featured as a “Screenwriter to Watch” in MovieMaker Magazine\, and selected to be a fellow in the Fred Rogers Productions Writers’ Neighborhood Program. \nLillie studied creative writing at New York University\, and her writing has been published in Quail Bell Magazine\, The Delmarva Review\, PANK Magazine and more. In addition to serving on the essays reading panel for Hippocampus Magazine\, Lillie offers notes and coaching services to help writers persist in making their most impactful work. Learn more at lilliegardner.com or follow @lilliegardner on Instagram \n\nGet Tickets to this Event
URL:https://www.hippocampusmagazine.com/event/how-to-tuesday-minding-your-cs-contrast-conflict-and-change-with-lillie-gardner/
LOCATION:Online (Zoom Webinar)
CATEGORIES:Craft,Hippo Organizing,How-to Tuesdays
ATTACH;FMTTYPE=image/png:https://www.hippocampusmagazine.com/wp-content/uploads/2025/12/how-to-Cs-lillie-web.png
ORGANIZER;CN="Hippocampus Magazine and Books":MAILTO:hippocampusmagazine@gmail.com
END:VEVENT
END:VCALENDAR