BEGIN:VCALENDAR
VERSION:2.0
PRODID:-//Hippocampus Magazine - ECPv6.15.20//NONSGML v1.0//EN
CALSCALE:GREGORIAN
METHOD:PUBLISH
X-WR-CALNAME:Hippocampus Magazine
X-ORIGINAL-URL:https://www.hippocampusmagazine.com
X-WR-CALDESC:Events for Hippocampus Magazine
REFRESH-INTERVAL;VALUE=DURATION:PT1H
X-Robots-Tag:noindex
X-PUBLISHED-TTL:PT1H
BEGIN:VTIMEZONE
TZID:America/New_York
BEGIN:DAYLIGHT
TZOFFSETFROM:-0500
TZOFFSETTO:-0400
TZNAME:EDT
DTSTART:20230312T070000
END:DAYLIGHT
BEGIN:STANDARD
TZOFFSETFROM:-0400
TZOFFSETTO:-0500
TZNAME:EST
DTSTART:20231105T060000
END:STANDARD
BEGIN:DAYLIGHT
TZOFFSETFROM:-0500
TZOFFSETTO:-0400
TZNAME:EDT
DTSTART:20240310T070000
END:DAYLIGHT
BEGIN:STANDARD
TZOFFSETFROM:-0400
TZOFFSETTO:-0500
TZNAME:EST
DTSTART:20241103T060000
END:STANDARD
BEGIN:DAYLIGHT
TZOFFSETFROM:-0500
TZOFFSETTO:-0400
TZNAME:EDT
DTSTART:20250309T070000
END:DAYLIGHT
BEGIN:STANDARD
TZOFFSETFROM:-0400
TZOFFSETTO:-0500
TZNAME:EST
DTSTART:20251102T060000
END:STANDARD
END:VTIMEZONE
BEGIN:VEVENT
DTSTART;TZID=America/New_York:20240206T190000
DTEND;TZID=America/New_York:20240206T203000
DTSTAMP:20260422T125540
CREATED:20231128T203203Z
LAST-MODIFIED:20240206T225419Z
UID:51936-1707246000-1707251400@www.hippocampusmagazine.com
SUMMARY:How-To Tuesday: Reading Aloud: It's Not Just for Bedtime Stories — Using Audio to Hone Your Creative Nonfiction (Theresa Okokon)
DESCRIPTION:Too often\, writers think about reading as a silent activity. But\, if you slow down to think about it\, you are probably HEARING these very words “out loud” in your head. That’s because reading isn’t silence based\, its SOUND based. \nIn this workshop\, we will discuss how to use sound as a meaningful sensory consideration in composing your writing. \n\nWhere are the overlaps between what works in music and what works in writing?\nWhat tools can we use to predict the way our writing might sound to someone else?\nOutside of our writing itself\, how can sound be part of our work as writers?\n\nAbout the series: How-To Tuesdays are monthly talks on the craft of creative nonfiction\, publishing\, marketing and the writing life led by Hippocampus Magazine editors & contributors. Your registration helps fund our contributor payments and other costs associated with running our journal. \nMeet the Speaker\nTheresa Okokon is a Pushcart Prize nominated essayist. A Wisconsinite living in New England\, she is a writer\, a storyteller\, and the co-host of Stories From The Stage. In addition to writing and performing her own stories\, Theresa also teaches storytelling and writing workshops and classes\, coaches other tellers\, hosts story slams\, and frequently emcees events for nonprofits. An alum of both the Memoir Incubator and Essay Incubator programs at GrubStreet\, Theresa’s memoir in essays about memory\, family stories\, and the death of her father — THE OKOKON FAMILY ORCHESTRA — is slated for publication with Atria Books at Simon & Schuster. \n​Theresa’s essays (and bathroom selfies!) have appeared in midnight & indigo\, ELLE\, the Independent\, WBUR’s Cognoscenti\, and Boston.com. Her essay “Me Llamo Theresa”\, published by Hippocampus Magazine and nominated for a 2020 Pushcart Prize\, was named among the Top Essays of the Week by Longreads and The Rumpus. \n​​
URL:https://www.hippocampusmagazine.com/event/how-to-tuesdayreading-aloud-its-not-just-for-bedtime-stories-using-audio-to-hone-your-creative-nonfiction-theresa-okokon/
LOCATION:Online (Zoom Webinar)
CATEGORIES:Craft,Hippo Organizing,How-to Tuesdays,Online
ATTACH;FMTTYPE=image/png:https://www.hippocampusmagazine.com/wp-content/uploads/2023/10/how-to-theresa-e1701207203636.png
ORGANIZER;CN="Hippocampus Magazine and Books":MAILTO:hippocampusmagazine@gmail.com
END:VEVENT
BEGIN:VEVENT
DTSTART;TZID=America/New_York:20240225T180000
DTEND;TZID=America/New_York:20240225T191500
DTSTAMP:20260422T125540
CREATED:20240204T003046Z
LAST-MODIFIED:20240220T175011Z
UID:52959-1708884000-1708888500@www.hippocampusmagazine.com
SUMMARY:STORIES ON SUNDAY: Paul Crenshaw & Melt With Me: Coming of Age and Other 80s Perils
DESCRIPTION:Join us for an evening of conversation and creative nonfiction with essayist Paul Crenshaw\, who will read from his new collection Melt With Me: Coming of Age and Other ’80s Perils. (October 2023; Ohio State University Press) \nAbout the Book: At the intersection of 1980s pop culture\, the Cold War\, and the trials of coming of age sits Melt with Me. Paul Crenshaw takes up a range of topics from Star Wars to video games\, Choose Your Own Adventure books to the Satanic Panic. Blending the personal with the historical\, levity with gravity\, Crenshaw shows how pop culture shaped those who grew up in 1980s America: how Reagan’s Strategic Defense Initiative drove fears of nuclear war\, how professional wrestling taught us everyone was either a good guy or a bad guy\, how Bugs Bunny cartoons reflected the absurdity of war and mutually assured destruction\, and how video games taught young boys\, in particular\, that no matter how hard they tried to save it\, the world would end itself. \nReflecting on the decade and its dark influence on fear-based notions of nation and manhood\, Crenshaw writes\, “All this reminds me I’m still afraid of the same things I was afraid of as a child. Some days I think the movies are real and we’re watching the last hour of humanity. You’ll have to decide if there’s any hope.” \nAbout the Series: Stories on Sundays are bi-monthly readings from a recent/forthcoming work of creative nonfiction followed by an author interview + audience Q&A. Your registration helps fund our contributor payments and other costs associated with running our journal. \nAbout Our Speaker\nAll of our readers have a connection to Hippocampus Magazine\, and we’re proud to have published several of Paul Crenshaw’s pieces over the years. In addition to this new collection\, Paul is the author of This One Will Hurt You and This We’ll Defend\, on the Cold War culture of the 1980s. Other work has appeared in Best American Essays\, The Pushcart Prize: Best of the Small Presses\, Best American Nonrequired Reading\, The Pushcart Prize\, and Oxford American.
URL:https://www.hippocampusmagazine.com/event/stories-on-sunday-paul-crenshaw/
LOCATION:Online (Zoom Webinar)
CATEGORIES:Hippo Organizing,Stories on Sunday
ATTACH;FMTTYPE=image/png:https://www.hippocampusmagazine.com/wp-content/uploads/2024/02/sunday-paul-website.png
ORGANIZER;CN="Hippocampus Magazine and Books":MAILTO:hippocampusmagazine@gmail.com
END:VEVENT
END:VCALENDAR