BEGIN:VCALENDAR
VERSION:2.0
PRODID:-//Hippocampus Magazine - ECPv6.15.17.1//NONSGML v1.0//EN
CALSCALE:GREGORIAN
METHOD:PUBLISH
X-WR-CALNAME:Hippocampus Magazine
X-ORIGINAL-URL:https://www.hippocampusmagazine.com
X-WR-CALDESC:Events for Hippocampus Magazine
REFRESH-INTERVAL;VALUE=DURATION:PT1H
X-Robots-Tag:noindex
X-PUBLISHED-TTL:PT1H
BEGIN:VTIMEZONE
TZID:America/New_York
BEGIN:DAYLIGHT
TZOFFSETFROM:-0500
TZOFFSETTO:-0400
TZNAME:EDT
DTSTART:20230312T070000
END:DAYLIGHT
BEGIN:STANDARD
TZOFFSETFROM:-0400
TZOFFSETTO:-0500
TZNAME:EST
DTSTART:20231105T060000
END:STANDARD
BEGIN:DAYLIGHT
TZOFFSETFROM:-0500
TZOFFSETTO:-0400
TZNAME:EDT
DTSTART:20240310T070000
END:DAYLIGHT
BEGIN:STANDARD
TZOFFSETFROM:-0400
TZOFFSETTO:-0500
TZNAME:EST
DTSTART:20241103T060000
END:STANDARD
BEGIN:DAYLIGHT
TZOFFSETFROM:-0500
TZOFFSETTO:-0400
TZNAME:EDT
DTSTART:20250309T070000
END:DAYLIGHT
BEGIN:STANDARD
TZOFFSETFROM:-0400
TZOFFSETTO:-0500
TZNAME:EST
DTSTART:20251102T060000
END:STANDARD
END:VTIMEZONE
BEGIN:VEVENT
DTSTART;TZID=America/New_York:20240416T190000
DTEND;TZID=America/New_York:20240416T203000
DTSTAMP:20260422T101540
CREATED:20240308T222357Z
LAST-MODIFIED:20240417T003226Z
UID:53587-1713294000-1713299400@www.hippocampusmagazine.com
SUMMARY:How-To Tuesday: WTF is Analytics? Using Data to Improve Our Craft with Mandy Pennington
DESCRIPTION: This event is over; if you missed registering but would still like to purchase access to the recording\, please email us at info[at]hippocampusmagazine[dot]com for details.  \nWhile writing is in many ways an artistic endeavor that challenges us to take creative leaps and indulge our muses\, thinking analytically and spending time with data can actually help us improve our craft and be more effective in our writing practice. \nIn this session\, digital strategist and writer Mandy Pennington will explore: \n\nWhat analytics are and how they can be used to understand the space you currently occupy in the conversations around your work\nBasic analytics programs that can give you greater insight into where your readers come from and how they interact with you\nTools for researching and understanding audiences who might be most interested in engaging with you and your work\nStrategies for analyzing your own work and performance\nHow data can be used to strengthen your book proposal\, brainstorm new work\, and more!\n\nBy the end of this session\, writers should feel more comfortable with data without the fear of losing the soul of what makes their work uniquely compelling and personal. \nNote: In an event survey we did several months back\, this topic was suggested a few times. We heard you! And we hope to answer this question (WTF is analytics!) for you in a fun and meaningful way. \nAbout the series: How-To Tuesdays are monthly talks on the craft of creative nonfiction\, publishing\, marketing and the writing life led by Hippocampus Magazine editors & contributors. Your registration helps fund our contributor payments and other costs associated with running our journal. \nAbout Our Speaker\nMandy Pennington is a writer\, marketer\, teacher and actor with a passion for storytelling. She serves as the director of digital strategy at Wilkes University and is currently pursuing her MFA in the Maslow Family Graduate Program in Creative Writing. She holds a bachelor’s and master’s degree in communications from Marywood University\, a master’s degree in creative writing from Wilkes University\, and instructs courses in organizational communication\, media ethics\, and other marketing communications topics.\n\n\nHer work has been featured in Currents in the Electric City: A Scranton Anthology (Belt Publishing)\, 2022 American Writer’s Review (San Fedele Press)\, Used Car Dealer and Search Engine People. Her first play\, My Condolences\, premiered at the 2018 Scranton Fringe Festival\, where she currently serves as a marketing committee volunteer and active performer. She is in the process of finishing a coming-of-age memoir and adapting it into a one woman show. \nMandy lives in northeastern Pennsylvania with her husband and two mischievous cats. Learn more: @mandybpenn or mandybpenn.com.
URL:https://www.hippocampusmagazine.com/event/how-to-tuesday-wtf-is-analytics-with-mandy-pennington/
LOCATION:Online (Zoom Webinar)
CATEGORIES:Craft,Hippo Organizing,How-to Tuesdays,Marketing/Promotion,Online
ATTACH;FMTTYPE=image/png:https://www.hippocampusmagazine.com/wp-content/uploads/2024/03/how-to-tuesday-mandy-e1711241319893.png
ORGANIZER;CN="Hippocampus Magazine and Books":MAILTO:hippocampusmagazine@gmail.com
END:VEVENT
BEGIN:VEVENT
DTSTART;TZID=America/New_York:20240421T180000
DTEND;TZID=America/New_York:20240421T191500
DTSTAMP:20260422T101540
CREATED:20240208T201145Z
LAST-MODIFIED:20240421T203959Z
UID:53026-1713722400-1713726900@www.hippocampusmagazine.com
SUMMARY:STORIES ON SUNDAY: Penny Guisinger (Shift: A Memoir of Identity and Other Illusions)
DESCRIPTION: Note: if you’re reading this on mobile\, the full ticket instructions might not be showing in the ticket box above; to register\, add your chosen dollar amount and number of tickets using the + sign. (For a free ticket\, simply put in $0.) Ticket includes live event and access to recording. \nJoin Penny Guisinger for a reading from Shift: A Memoir of Identity and Other Illusions\, followed by a conversation led by Alexis Paige and an audience Q&A. (Paige is author of Work Hard\, Not Smart: How to Make a Messy Literary Life and Not a Place On Any Map and the nonfiction acquisitions editor at Vine Leaves Press.) \nAbout the Book: Penny Guisinger was not always attracted to women. In Shift she recounts formative relationships with women and men\, including the marriage that produced her two children and ultimately ended in part due to her affair with her now-wife. Beginning her story as straight and ending as queer\, she struggles to make sense of how her identity changed so profoundly while leaving her feeling like the same person she’s always been. Shift examines sexual and romantic fluidity while wrestling with the ways past and present mingle rather than staying in linear narratives. Under scrutiny\, Guisinger’s sense of her own identity becomes like a Mobius strip or Penrose triangle—an optical illusion that challenges the dimensions and possibilities of the world. \nAbout the Series: Stories on Sundays are bi-monthly readings from a recent/forthcoming work of creative nonfiction followed by an author interview + audience Q&A. Your registration helps fund our contributor payments and other costs associated with running our journal. \nAbout Our Speaker\nPenny Guisinger is the author of Postcards from Here and the forthcoming Shift: A Memoir of Identity and Other Illusions. All of our speakers have a connection to Hippocampus Magazine; she’s not only a past contributor to the magazine\, but she also co-authored (with Alexis Paige) a chapter for Getting to the Truth: The Craft and Practice of Creative Nonfiction. \nPenny’s work has also appeared in Fourth Genre\, River Teeth\, Under the Gum Tree\, and others. Pushcart nominated\, a Maine Literary Award winner\, and a three-time notable in Best American Essays\, she is a co-director of Iota Short Forms and a former assistant editor at Brevity. Penny is a graduate of the Stonecoast MFA Program.
URL:https://www.hippocampusmagazine.com/event/stories-on-sunday-penny-guisinger-shift/
LOCATION:Online (Zoom Webinar)
CATEGORIES:Hippo Organizing,Reading,Stories on Sunday
ATTACH;FMTTYPE=image/png:https://www.hippocampusmagazine.com/wp-content/uploads/2024/02/sunday-penny-shift-website.png
ORGANIZER;CN="Hippocampus Magazine and Books":MAILTO:hippocampusmagazine@gmail.com
END:VEVENT
END:VCALENDAR