BEGIN:VCALENDAR
VERSION:2.0
PRODID:-//Hippocampus Magazine - ECPv6.15.17.1//NONSGML v1.0//EN
CALSCALE:GREGORIAN
METHOD:PUBLISH
X-ORIGINAL-URL:https://www.hippocampusmagazine.com
X-WR-CALDESC:Events for Hippocampus Magazine
REFRESH-INTERVAL;VALUE=DURATION:PT1H
X-Robots-Tag:noindex
X-PUBLISHED-TTL:PT1H
BEGIN:VTIMEZONE
TZID:America/New_York
BEGIN:DAYLIGHT
TZOFFSETFROM:-0500
TZOFFSETTO:-0400
TZNAME:EDT
DTSTART:20240310T070000
END:DAYLIGHT
BEGIN:STANDARD
TZOFFSETFROM:-0400
TZOFFSETTO:-0500
TZNAME:EST
DTSTART:20241103T060000
END:STANDARD
BEGIN:DAYLIGHT
TZOFFSETFROM:-0500
TZOFFSETTO:-0400
TZNAME:EDT
DTSTART:20250309T070000
END:DAYLIGHT
BEGIN:STANDARD
TZOFFSETFROM:-0400
TZOFFSETTO:-0500
TZNAME:EST
DTSTART:20251102T060000
END:STANDARD
BEGIN:DAYLIGHT
TZOFFSETFROM:-0500
TZOFFSETTO:-0400
TZNAME:EDT
DTSTART:20260308T070000
END:DAYLIGHT
BEGIN:STANDARD
TZOFFSETFROM:-0400
TZOFFSETTO:-0500
TZNAME:EST
DTSTART:20261101T060000
END:STANDARD
END:VTIMEZONE
BEGIN:VEVENT
DTSTART;TZID=America/New_York:20250128T190000
DTEND;TZID=America/New_York:20250128T203000
DTSTAMP:20260421T223542
CREATED:20240705T222821Z
LAST-MODIFIED:20250128T214159Z
UID:61785-1738090800-1738096200@www.hippocampusmagazine.com
SUMMARY:HOW-TO TUESDAY: Diving Into Topics that Matter to You: Writing & Publishing Op-Eds With Kelly Caldwell
DESCRIPTION:We’re living through an era when other people’s opinions are on blast\, all the time\, everywhere we go. That doesn’t mean you shouldn’t voice your own —  it just means you might want to do so effectively\, and with style. \nIn this session\, we’ll discuss how to go beyond downloading our thoughts to crafting a good op-ed\, one where writers share their expertise and weigh-in on the most critical issues of the day. \nIn this session\, together we’ll explore: \n\nBlending the art of creative writing with the tools of logic\, both of which are key to writing an op-ed that works;\nFinding the right audience for your work\, preferably in an outlet that pays;\nGenerating ideas for and outlining a few op-eds of your own.\n\nOp-eds are a good way for new writers to break into publishing and for established ones to expand their brand or promote forthcoming books. And in the fever swamp of our current public life\, you don’t want to write something sloppy that\, three news cycles later\, you’re apologizing for on social media. \nWe hope you will join us! Note: All registered attendees will get a link to the recording\, so be sure to register even if you cannot make it life. \nAbout the series: How-To Tuesdays are monthly talks on the craft of creative nonfiction\, publishing\, marketing and the writing life led by Hippocampus Magazine editors & contributors. Your registration helps fund our contributor payments and other costs associated with running our journal. \nABOUT THE SPEAKER \nKelly Caldwell’s essays\, articles\, and op-eds have appeared in Vox\, House Beautiful\, The Writer\, sugarsugarsalt\, Pacific Standard\, the Huffington Post\, and Newsday\, among others. She teaches creative nonfiction and is dean of faculty for Gotham Writers Workshop in New York City. So far\, she hasn’t published anything that’s prompted Neil DeGrasse Tyson to mock her on social media.  \nAll of our speakers have a connection to Hippocampus Magazine. Her work also appears in our craft anthology\, Getting to the Truth: The Craft and Practice of Creative Nonfiction (Hippocampus Books).
URL:https://www.hippocampusmagazine.com/event/how-to-tuesday-writing-op-eds-caldwell/
LOCATION:Online (Zoom Webinar)
CATEGORIES:Craft,Hippo Organizing,How-to Tuesdays,Online
ATTACH;FMTTYPE=image/png:https://www.hippocampusmagazine.com/wp-content/uploads/2024/07/how-to-tuesday-kelly-web-e1735597771892.png
ORGANIZER;CN="Hippocampus Magazine and Books":MAILTO:hippocampusmagazine@gmail.com
END:VEVENT
END:VCALENDAR