BEGIN:VCALENDAR
VERSION:2.0
PRODID:-//Hippocampus Magazine - ECPv6.15.17.1//NONSGML v1.0//EN
CALSCALE:GREGORIAN
METHOD:PUBLISH
X-ORIGINAL-URL:https://www.hippocampusmagazine.com
X-WR-CALDESC:Events for Hippocampus Magazine
REFRESH-INTERVAL;VALUE=DURATION:PT1H
X-Robots-Tag:noindex
X-PUBLISHED-TTL:PT1H
BEGIN:VTIMEZONE
TZID:America/New_York
BEGIN:DAYLIGHT
TZOFFSETFROM:-0500
TZOFFSETTO:-0400
TZNAME:EDT
DTSTART:20240310T070000
END:DAYLIGHT
BEGIN:STANDARD
TZOFFSETFROM:-0400
TZOFFSETTO:-0500
TZNAME:EST
DTSTART:20241103T060000
END:STANDARD
BEGIN:DAYLIGHT
TZOFFSETFROM:-0500
TZOFFSETTO:-0400
TZNAME:EDT
DTSTART:20250309T070000
END:DAYLIGHT
BEGIN:STANDARD
TZOFFSETFROM:-0400
TZOFFSETTO:-0500
TZNAME:EST
DTSTART:20251102T060000
END:STANDARD
BEGIN:DAYLIGHT
TZOFFSETFROM:-0500
TZOFFSETTO:-0400
TZNAME:EDT
DTSTART:20260308T070000
END:DAYLIGHT
BEGIN:STANDARD
TZOFFSETFROM:-0400
TZOFFSETTO:-0500
TZNAME:EST
DTSTART:20261101T060000
END:STANDARD
END:VTIMEZONE
BEGIN:VEVENT
DTSTART;TZID=America/New_York:20250513T190000
DTEND;TZID=America/New_York:20250513T203000
DTSTAMP:20260421T172742
CREATED:20250412T210325Z
LAST-MODIFIED:20250513T213331Z
UID:64062-1747162800-1747168200@www.hippocampusmagazine.com
SUMMARY:HOW-TO TUESDAY: Exploring Forms in CNF: What's a Hermit Crab Doing in My Essay? 
DESCRIPTION:In this How-To Tuesday\, we’ll talk about one of the most fun experimental forms of creative nonfiction: the hermit crab essay! \nThese forms can also be an effective way to approach sensitive topics with levity and wit. Your essay could take the form of anything\, from a recipe or personals ad to a corporate memo or a weather report! Think outside the box! \nTogether\, in this session we will: \n\ntalk about what they are and how they work\nlook at great examples of hermit crab essays\nstart thinking about how to create our own\n\nIf you’ve always been curious about experimental forms creative nonfiction — or you just want a refresher! — this session will leave you inspired and ready to write. \nAbout the series: How-To Tuesdays are monthly(ish) talks on the craft of creative nonfiction\, publishing\, marketing\, and the writing life led by Hippocampus Magazine editors & contributors. Your registration helps fund our contributor payments and other costs associated with running our journal. \nAbout Our Speaker\n \nRae Pagliarulo is associate editor of Hippocampus Magazine. She works as a nonprofit fundraising consultant in her lifelong home of Philadelphia. Her essays\, poems\, and articles have appeared in Full Grown People\, bedfellows\, Hippocampus\, The Manifest-Station\, r.kv.r.y. quarterly\, the Brevity Blog\, and numerous others. Her work is anthologized in The Best of Philadelphia Stories: 10th Anniversary Edition. \nRae is the 2014 recipient of the Sandy Crimmins National Poetry Prize\, a 2019 Best of the Net nominee\, and a graduate of Rosemont College’s MFA program.
URL:https://www.hippocampusmagazine.com/event/how-to-tuesday-whats-a-hermit-crab-doing-in-my-essay/
LOCATION:Online (Zoom Webinar)
CATEGORIES:Craft,Hippo Organizing,How-to Tuesdays,Online
ATTACH;FMTTYPE=image/png:https://www.hippocampusmagazine.com/wp-content/uploads/2025/04/how-to-tuesday-rae-web-500-x-500-px.png
ORGANIZER;CN="Hippocampus Magazine and Books":MAILTO:hippocampusmagazine@gmail.com
END:VEVENT
END:VCALENDAR