BEGIN:VCALENDAR
VERSION:2.0
PRODID:-//Hippocampus Magazine - ECPv6.15.20//NONSGML v1.0//EN
CALSCALE:GREGORIAN
METHOD:PUBLISH
X-ORIGINAL-URL:https://www.hippocampusmagazine.com
X-WR-CALDESC:Events for Hippocampus Magazine
REFRESH-INTERVAL;VALUE=DURATION:PT1H
X-Robots-Tag:noindex
X-PUBLISHED-TTL:PT1H
BEGIN:VTIMEZONE
TZID:America/New_York
BEGIN:DAYLIGHT
TZOFFSETFROM:-0500
TZOFFSETTO:-0400
TZNAME:EDT
DTSTART:20220313T070000
END:DAYLIGHT
BEGIN:STANDARD
TZOFFSETFROM:-0400
TZOFFSETTO:-0500
TZNAME:EST
DTSTART:20221106T060000
END:STANDARD
BEGIN:DAYLIGHT
TZOFFSETFROM:-0500
TZOFFSETTO:-0400
TZNAME:EDT
DTSTART:20230312T070000
END:DAYLIGHT
BEGIN:STANDARD
TZOFFSETFROM:-0400
TZOFFSETTO:-0500
TZNAME:EST
DTSTART:20231105T060000
END:STANDARD
BEGIN:DAYLIGHT
TZOFFSETFROM:-0500
TZOFFSETTO:-0400
TZNAME:EDT
DTSTART:20240310T070000
END:DAYLIGHT
BEGIN:STANDARD
TZOFFSETFROM:-0400
TZOFFSETTO:-0500
TZNAME:EST
DTSTART:20241103T060000
END:STANDARD
END:VTIMEZONE
BEGIN:VEVENT
DTSTART;TZID=America/New_York:20231107T190000
DTEND;TZID=America/New_York:20231107T203000
DTSTAMP:20260422T173908
CREATED:20230918T191328Z
LAST-MODIFIED:20231107T224832Z
UID:50958-1699383600-1699389000@www.hippocampusmagazine.com
SUMMARY:How-To Tuesdays: It's Short\, So It Must Be Flash\, Right? What Your Editor is *Really* Looking For in Flash Creative Nonfiction (Wendy Fontaine/Rae Pagliarulo)
DESCRIPTION:How-To Tuesdays are monthly talks on the craft of creative nonfiction\, publishing\, marketing and the writing life led by Hippocampus Magazine editors & contributors.\n \nEver wondered what makes something “flash\,” and not just a really short essay? Scratching your head over why some flash creative nonfiction pieces get chosen for publication while others don’t? \n\nJoin Hippocampus Magazine flash CNF editors Rae Pagliarulo and Wendy Fontaine to learn more about this subgenre of creative nonfiction in our first How-To Tuesday. In this webinar\, you will: \n\n\nlearn unique elements that distinguish the form\nget an inside look at what flash editors are really looking for in submissions\nexplore the specific reasons why a few of our favorite flash essays made the cut\ndiscover literary magazines that accept flash (and other outlets for your work)\n\nIdeal for writers of all levels\, this session will leave you inspired to enrich your existing work or try flash for the first time. \nNote that registration for our events will close three hours prior to the event so we have time to finalize the guest list and log into the platform to get ready for the session.  \n\n\n\nABOUT THE SPEAKERS\n\nWendy Fontaine\, Assistant Flash Editor\nWendy Fontaine \nWendy Fontaine’s work has appeared in dozens of literary journals and magazines including Pithead Chapel\, Hippocampus Magazine\, Longridge Review\, Creative Nonfiction’s Sunday Reads\, Sweet Lit and Yemassee. She has received nonfiction prizes from Identity Theory\, Hunger Mountain and Tiferet Journal\, as well as nominations to the Pushcart Prize and Best of the Net anthologies. A native New Englander\, she currently resides in southern California with her daughter and husband.\n\nRae Pagliarulo\, Flash Editor/Associate Editor\nRae Pagliarulo \nRae Pagliarulo works as a nonprofit fundraising consultant in her lifelong home of Philadelphia. Her essays\, poems\, and articles have appeared in Full Grown People\, bedfellows\, Hippocampus\, The Manifest-Station\, r.kv.r.y. quarterly\, the Brevity Blog\, and numerous others. Her work is anthologized in The Best of Philadelphia Stories: 10th Anniversary Edition. She is the 2014 recipient of the Sandy Crimmins National Poetry Prize\, a 2019 Best of the Net nominee\, and a graduate of Rosemont College’s MFA program.
URL:https://www.hippocampusmagazine.com/event/how-to-tuesdays-what-your-flash-editor-is-really-looking-for-wendy-fontaine-rae-pagliarulo/
LOCATION:Online (Zoom Webinar)
CATEGORIES:Craft,Hippo Organizing,How-to Tuesdays
ATTACH;FMTTYPE=image/png:https://www.hippocampusmagazine.com/wp-content/uploads/2023/09/2.png
ORGANIZER;CN="Hippocampus Magazine and Books":MAILTO:hippocampusmagazine@gmail.com
END:VEVENT
END:VCALENDAR