BEGIN:VCALENDAR
VERSION:2.0
PRODID:-//Hippocampus Magazine - ECPv6.15.20//NONSGML v1.0//EN
CALSCALE:GREGORIAN
METHOD:PUBLISH
X-WR-CALNAME:Hippocampus Magazine
X-ORIGINAL-URL:https://www.hippocampusmagazine.com
X-WR-CALDESC:Events for Hippocampus Magazine
REFRESH-INTERVAL;VALUE=DURATION:PT1H
X-Robots-Tag:noindex
X-PUBLISHED-TTL:PT1H
BEGIN:VTIMEZONE
TZID:America/New_York
BEGIN:DAYLIGHT
TZOFFSETFROM:-0500
TZOFFSETTO:-0400
TZNAME:EDT
DTSTART:20230312T070000
END:DAYLIGHT
BEGIN:STANDARD
TZOFFSETFROM:-0400
TZOFFSETTO:-0500
TZNAME:EST
DTSTART:20231105T060000
END:STANDARD
BEGIN:DAYLIGHT
TZOFFSETFROM:-0500
TZOFFSETTO:-0400
TZNAME:EDT
DTSTART:20240310T070000
END:DAYLIGHT
BEGIN:STANDARD
TZOFFSETFROM:-0400
TZOFFSETTO:-0500
TZNAME:EST
DTSTART:20241103T060000
END:STANDARD
BEGIN:DAYLIGHT
TZOFFSETFROM:-0500
TZOFFSETTO:-0400
TZNAME:EDT
DTSTART:20250309T070000
END:DAYLIGHT
BEGIN:STANDARD
TZOFFSETFROM:-0400
TZOFFSETTO:-0500
TZNAME:EST
DTSTART:20251102T060000
END:STANDARD
END:VTIMEZONE
BEGIN:VEVENT
DTSTART;TZID=America/New_York:20240116T190000
DTEND;TZID=America/New_York:20240116T203000
DTSTAMP:20260422T144911
CREATED:20231208T224959Z
LAST-MODIFIED:20240117T013642Z
UID:52104-1705431600-1705437000@www.hippocampusmagazine.com
SUMMARY:HOW-TO TUESDAY: Writing Hard Stories — Navigating Trauma\, Family & Other Difficult Topics in Memoir
DESCRIPTION:Writing about difficult life circumstances can help a writer understand them in a profound way. The process of re-entering those memories\, taking them apart\, and then putting them back together again on the writer’s own terms\, can transform them into something deeply meaningful for both writer and reader. \nIn this talk focused on writing “the tough stuff\,” author Melanie Brooks shares from her own memoir-writing experience the challenges of confronting the vulnerability\, fear\, and pain that inevitably accompany the journey to bring hard stories to the page. This session will consider the following questions: \n\nHow do we peel back the layers of memory to get to the heart of our stories?\nHow do we cope with the difficult emotions that are dredged up in the process?\nHow do we navigate the tricky terrain of our families\, particularly if we are writing about circumstances that overlap with theirs?\n How do we shape and craft our stories so they are accessible for others?\n\nAttendees will leave with strategies for uncovering the powerful stories they have to tell and for taking care of themselves in the process. \nAbout the series: How-To Tuesdays are monthly talks on the craft of creative nonfiction\, publishing\, marketing and the writing life led by Hippocampus Magazine editors & contributors. Your registration helps fund our contributor payments and other costs associated with running our journal. \n\nABOUT THE SPEAKER\nMelanie Brooks\nMelanie Brooks is the author of the memoir A Hard Silence: One daughter remaps family\, grief\, and faith when HIV/AIDS changes it all (Vine Leaves Press\, 2023) and Writing Hard Stories: Celebrated Memoirists Who Shaped Art from Trauma (Beacon Press\, 2017). \nAll of our How-To Tuesday speakers have a connection to Hippocampus\, and Melanie is a past contributor to our magazine and also wrote a chapter for our craft anthology Getting to the Truth: The Craft and Practice of Creative Nonfiction. She’s has had numerous interviews and essays on topics ranging from loss and grief to parenting and aging published in the The Boston Globe\, HuffPost\, Yankee Magazine\, The Washington Post\, Ms. Magazine\, Creative Nonfiction\, and other notable publications. \nShe teaches creative nonfiction in the MFA programs at Bay Path University and Western Connecticut State University and professional writing at Northeastern University. She holds an MFA in creative nonfiction from the University of Southern Maine’s Stonecoast writing program and a certificate in narrative medicine from Columbia University. \nMelanie lives in New Hampshire with her husband\, two children (when they are home from college)\, and chocolate lab.
URL:https://www.hippocampusmagazine.com/event/how-to-tuesday-writing-hard-stories/
LOCATION:Online (Zoom Webinar)
CATEGORIES:Hippo Organizing,How-to Tuesdays,Online
ATTACH;FMTTYPE=image/png:https://www.hippocampusmagazine.com/wp-content/uploads/2023/09/2-1.png
ORGANIZER;CN="Hippocampus Magazine and Books":MAILTO:hippocampusmagazine@gmail.com
END:VEVENT
END:VCALENDAR