BEGIN:VCALENDAR
VERSION:2.0
PRODID:-//Hippocampus Magazine - ECPv6.15.17.1//NONSGML v1.0//EN
CALSCALE:GREGORIAN
METHOD:PUBLISH
X-WR-CALNAME:Hippocampus Magazine
X-ORIGINAL-URL:https://www.hippocampusmagazine.com
X-WR-CALDESC:Events for Hippocampus Magazine
REFRESH-INTERVAL;VALUE=DURATION:PT1H
X-Robots-Tag:noindex
X-PUBLISHED-TTL:PT1H
BEGIN:VTIMEZONE
TZID:America/New_York
BEGIN:DAYLIGHT
TZOFFSETFROM:-0500
TZOFFSETTO:-0400
TZNAME:EDT
DTSTART:20230312T070000
END:DAYLIGHT
BEGIN:STANDARD
TZOFFSETFROM:-0400
TZOFFSETTO:-0500
TZNAME:EST
DTSTART:20231105T060000
END:STANDARD
BEGIN:DAYLIGHT
TZOFFSETFROM:-0500
TZOFFSETTO:-0400
TZNAME:EDT
DTSTART:20240310T070000
END:DAYLIGHT
BEGIN:STANDARD
TZOFFSETFROM:-0400
TZOFFSETTO:-0500
TZNAME:EST
DTSTART:20241103T060000
END:STANDARD
BEGIN:DAYLIGHT
TZOFFSETFROM:-0500
TZOFFSETTO:-0400
TZNAME:EDT
DTSTART:20250309T070000
END:DAYLIGHT
BEGIN:STANDARD
TZOFFSETFROM:-0400
TZOFFSETTO:-0500
TZNAME:EST
DTSTART:20251102T060000
END:STANDARD
END:VTIMEZONE
BEGIN:VEVENT
DTSTART;TZID=America/New_York:20240604T180000
DTEND;TZID=America/New_York:20240604T193000
DTSTAMP:20260422T075725
CREATED:20240324T001735Z
LAST-MODIFIED:20240421T223314Z
UID:53861-1717524000-1717529400@www.hippocampusmagazine.com
SUMMARY:HOW-TO TUESDAY: The Quiet Memoir: Finding "Conflict" in a Quiet Life with Kate Meadows
DESCRIPTION: Event update: This event was originally scheduled for May 7. We’ll resend event information to those who’ve already registered. \nWe live in a society that is hungry for true stories of profound trauma and monumental recovery. But what if you’re a writer who doesn’t have an obvious rock-bottom-to-mountain-top story to share? Is there room for life stories that are quieter\, tamer? \nIn this talk\, writer/editor Kate Meadows will address this question head-on and share her own experience of coming to terms with (and ultimately defining for herself) “the quiet memoir.” In the end\, there is a market for “quieter” life stories. The key is to create resonating points with your reader. \nKate will focus on the following points in this talk: \n\nThe significance of conflict and how to identify possible points of tension in a quiet memoir\nVarious ways to think about conflict (hint: it’s more than just “a problem!”)\nWhy knowing your audience is critical\nHow to hone in on the true significance of your story\n\nAttendees will gain a better understanding and appreciation of the quiet memoir and learn how to approach stories with no obvious struggle in new and different ways. \nAbout the series: How-To Tuesdays are monthly talks on the craft of creative nonfiction\, publishing\, marketing and the writing life led by Hippocampus Magazine editors & contributors. Your registration helps fund our contributor payments and other costs associated with running our journal. \nAbout Our Speaker\nKate Meadows is a creative nonfiction writer\, editor and writing coach with an MFA in professional writing. Her work has appeared in Writer’s Digest\, Poets & Writers\, Chicken Soup for the Soul and elsewhere\, including in three anthologies published by Books by Hippocampus: Dine\, Ink\, and Getting to the Truth: The Craft and Practice of Creative Nonfiction. The latter includes Kate’s essay about the very topic of this webinar\, the quiet memoir! \nKate leads a private online writing community called StoryCore. Recently she collaborated with the only officially licensed artist for Harley-Davidson motorcycles\, Scott Jacobs\, to write and publish his life story. Kate lives in Rapid City\, South Dakota\, with her husband\, two sons and a Boxer named Nellie. www.katemeadows.com
URL:https://www.hippocampusmagazine.com/event/how-to-tuesday-the-quiet-memoir-with-kate-meadows/
LOCATION:Online (Zoom Webinar)
CATEGORIES:Craft,Hippo Organizing,How-to Tuesdays,Online
ATTACH;FMTTYPE=image/png:https://www.hippocampusmagazine.com/wp-content/uploads/2024/03/how-to-tuesday-kate-web-e1711241303254.png
ORGANIZER;CN="Hippocampus Magazine and Books":MAILTO:hippocampusmagazine@gmail.com
END:VEVENT
END:VCALENDAR