BEGIN:VCALENDAR
VERSION:2.0
PRODID:-//Hippocampus Magazine - ECPv6.15.17.1//NONSGML v1.0//EN
CALSCALE:GREGORIAN
METHOD:PUBLISH
X-WR-CALNAME:Hippocampus Magazine
X-ORIGINAL-URL:https://www.hippocampusmagazine.com
X-WR-CALDESC:Events for Hippocampus Magazine
REFRESH-INTERVAL;VALUE=DURATION:PT1H
X-Robots-Tag:noindex
X-PUBLISHED-TTL:PT1H
BEGIN:VTIMEZONE
TZID:America/New_York
BEGIN:DAYLIGHT
TZOFFSETFROM:-0500
TZOFFSETTO:-0400
TZNAME:EDT
DTSTART:20230312T070000
END:DAYLIGHT
BEGIN:STANDARD
TZOFFSETFROM:-0400
TZOFFSETTO:-0500
TZNAME:EST
DTSTART:20231105T060000
END:STANDARD
BEGIN:DAYLIGHT
TZOFFSETFROM:-0500
TZOFFSETTO:-0400
TZNAME:EDT
DTSTART:20240310T070000
END:DAYLIGHT
BEGIN:STANDARD
TZOFFSETFROM:-0400
TZOFFSETTO:-0500
TZNAME:EST
DTSTART:20241103T060000
END:STANDARD
BEGIN:DAYLIGHT
TZOFFSETFROM:-0500
TZOFFSETTO:-0400
TZNAME:EDT
DTSTART:20250309T070000
END:DAYLIGHT
BEGIN:STANDARD
TZOFFSETFROM:-0400
TZOFFSETTO:-0500
TZNAME:EST
DTSTART:20251102T060000
END:STANDARD
END:VTIMEZONE
BEGIN:VEVENT
DTSTART;TZID=America/New_York:20240716T180000
DTEND;TZID=America/New_York:20240716T193000
DTSTAMP:20260422T064131
CREATED:20240324T002206Z
LAST-MODIFIED:20240716T174601Z
UID:53865-1721152800-1721158200@www.hippocampusmagazine.com
SUMMARY:HOW-TO TUESDAY: Quieting the Doubts and Rising Above: Thoughts on Impostor Syndrome with Athena Dixon
DESCRIPTION:Almost 70% of people experience impostor syndrome in their lifetimes\, but in the midst of it everything seems lonely and echoing. In this discussion\, writer Athena Dixon will give an overview of impostor syndrome– what it is\, how to identify it\, and perhaps how we can begin to work through it and use it to our advantage. \n\nHow does impostor syndrome show up both on the page and off?\nHow do we begin to not only recognize it\, but also give ourselves both grace and strength when attempting to manage it?\nHow does impostor syndrome speak to parts of our creative selves that may need attention?\n\nAthena will share her experiences with these doubts along with tips on how we can both embrace and combat these feelings as means of better approaching the page. \nAbout the series: How-To Tuesdays are monthly talks on the craft of creative nonfiction\, publishing\, marketing and the writing life led by Hippocampus Magazine editors & contributors. Your registration helps fund our contributor payments and other costs associated with running our journal. \nAbout Our Speaker\nBorn and raised in northeast Ohio\, Athena Dixon is the author of the essay collections The Incredible Shrinking Woman (Split/Lip Press) and The Loneliness Files (Tin House). Her work also appears in publications such as Harper’s Bazaar\, Shenandoah\, Grub Street\, Narratively\, and Lit Hub among others. She is a consulting editor for Fourth Genre and serves as the nonfiction/hybrid editor for Split/Lip Press. She resides in Philadelphia.
URL:https://www.hippocampusmagazine.com/event/how-to-tuesday-impostor-syndrome-athena-dixon/
LOCATION:Online (Zoom Webinar)
CATEGORIES:Craft,Hippo Organizing,How-to Tuesdays,Online
ATTACH;FMTTYPE=image/png:https://www.hippocampusmagazine.com/wp-content/uploads/2024/03/how-to-tuesday-athena-web-e1711241284897.png
ORGANIZER;CN="Hippocampus Magazine and Books":MAILTO:hippocampusmagazine@gmail.com
END:VEVENT
END:VCALENDAR