BEGIN:VCALENDAR
VERSION:2.0
PRODID:-//Hippocampus Magazine - ECPv6.15.17.1//NONSGML v1.0//EN
CALSCALE:GREGORIAN
METHOD:PUBLISH
X-ORIGINAL-URL:https://www.hippocampusmagazine.com
X-WR-CALDESC:Events for Hippocampus Magazine
REFRESH-INTERVAL;VALUE=DURATION:PT1H
X-Robots-Tag:noindex
X-PUBLISHED-TTL:PT1H
BEGIN:VTIMEZONE
TZID:America/New_York
BEGIN:DAYLIGHT
TZOFFSETFROM:-0500
TZOFFSETTO:-0400
TZNAME:EDT
DTSTART:20240310T070000
END:DAYLIGHT
BEGIN:STANDARD
TZOFFSETFROM:-0400
TZOFFSETTO:-0500
TZNAME:EST
DTSTART:20241103T060000
END:STANDARD
BEGIN:DAYLIGHT
TZOFFSETFROM:-0500
TZOFFSETTO:-0400
TZNAME:EDT
DTSTART:20250309T070000
END:DAYLIGHT
BEGIN:STANDARD
TZOFFSETFROM:-0400
TZOFFSETTO:-0500
TZNAME:EST
DTSTART:20251102T060000
END:STANDARD
BEGIN:DAYLIGHT
TZOFFSETFROM:-0500
TZOFFSETTO:-0400
TZNAME:EDT
DTSTART:20260308T070000
END:DAYLIGHT
BEGIN:STANDARD
TZOFFSETFROM:-0400
TZOFFSETTO:-0500
TZNAME:EST
DTSTART:20261101T060000
END:STANDARD
END:VTIMEZONE
BEGIN:VEVENT
DTSTART;TZID=America/New_York:20251209T190000
DTEND;TZID=America/New_York:20251209T203000
DTSTAMP:20260421T081533
CREATED:20251023T160852Z
LAST-MODIFIED:20251120T000806Z
UID:65749-1765306800-1765312200@www.hippocampusmagazine.com
SUMMARY:HOW-TO TUESDAY: Thinking About Platform (for Writers): Leveraging Themes & Strengths to Build an Authentic Audience
DESCRIPTION:Building a platform as a writer shouldn’t mean performing a version of yourself that feels foreign. Sustainable and impactful platforms grow organically from the themes that already live at the heart of your work — the questions\, obsessions\, and processes that drive your writing in the first place. \nIn this session\, we’ll explore how to identify the recurring threads in your writing and use them as the foundation for authentic platform building. Rather than forcing yourself into uncomfortable marketing roles\, you’ll learn to align your efforts with your natural strengths and interests\, creating a body of work that builds recognition around your unique voice. \nThis session will ask each writer to consider the following questions: \n\nWhat are the recurring themes and obsessions that run through your existing work?\nHow can you leverage your personality and natural strengths to support your platform’s growth?\nHow do you create coherence across your work without repetition or stagnation?\nHow can small\, consistent efforts around your themes build toward larger publishing opportunities?\nWhat does sustainable platform building look like for introverts vs. extroverts?\n\nAttendees will leave with a clear understanding of their own thematic through-lines\, a personalized strategy for platform development that feels authentic rather than performative\, and practical tools for building a body of work that serves as a foundation for bigger projects. \nAbout the series: How-To Tuesdays are monthly talks on the craft of creative nonfiction\, publishing\, marketing and the writing life led by Hippocampus Magazine editors & contributors. Your registration helps fund our contributor payments and other costs associated with running our journal. \nAbout the Speaker\n\nElizabeth Austin’s writing has appeared in Time\, Harper’s Bazaar\, McSweeney’s\, Narratively and elsewhere. She is currently working on a memoir about being a bad cancer mom. She lives outside of Philly with her two children and their many pets. Find her at writingelizabeth.com and on Instagram: @writingelizabeth. \n\nGet Tickets to this Event
URL:https://www.hippocampusmagazine.com/event/how-to-tuesday-building-platform/
LOCATION:Online (Zoom Webinar)
CATEGORIES:Hippo Organizing,How-to Tuesdays,Marketing/Promotion
ATTACH;FMTTYPE=image/png:https://www.hippocampusmagazine.com/wp-content/uploads/2025/10/how-to-tuesday-elizabeth-web.png
ORGANIZER;CN="Hippocampus Magazine and Books":MAILTO:hippocampusmagazine@gmail.com
END:VEVENT
END:VCALENDAR