BEGIN:VCALENDAR
VERSION:2.0
PRODID:-//Hippocampus Magazine - ECPv6.15.20//NONSGML v1.0//EN
CALSCALE:GREGORIAN
METHOD:PUBLISH
X-WR-CALNAME:Hippocampus Magazine
X-ORIGINAL-URL:https://www.hippocampusmagazine.com
X-WR-CALDESC:Events for Hippocampus Magazine
REFRESH-INTERVAL;VALUE=DURATION:PT1H
X-Robots-Tag:noindex
X-PUBLISHED-TTL:PT1H
BEGIN:VTIMEZONE
TZID:America/New_York
BEGIN:DAYLIGHT
TZOFFSETFROM:-0500
TZOFFSETTO:-0400
TZNAME:EDT
DTSTART:20220313T070000
END:DAYLIGHT
BEGIN:STANDARD
TZOFFSETFROM:-0400
TZOFFSETTO:-0500
TZNAME:EST
DTSTART:20221106T060000
END:STANDARD
BEGIN:DAYLIGHT
TZOFFSETFROM:-0500
TZOFFSETTO:-0400
TZNAME:EDT
DTSTART:20230312T070000
END:DAYLIGHT
BEGIN:STANDARD
TZOFFSETFROM:-0400
TZOFFSETTO:-0500
TZNAME:EST
DTSTART:20231105T060000
END:STANDARD
BEGIN:DAYLIGHT
TZOFFSETFROM:-0500
TZOFFSETTO:-0400
TZNAME:EDT
DTSTART:20240310T070000
END:DAYLIGHT
BEGIN:STANDARD
TZOFFSETFROM:-0400
TZOFFSETTO:-0500
TZNAME:EST
DTSTART:20241103T060000
END:STANDARD
END:VTIMEZONE
BEGIN:VEVENT
DTSTART;TZID=America/New_York:20231217T120000
DTEND;TZID=America/New_York:20231217T133000
DTSTAMP:20260422T181801
CREATED:20231128T201031Z
LAST-MODIFIED:20231217T163423Z
UID:51924-1702814400-1702819800@www.hippocampusmagazine.com
SUMMARY:STORIES ON SUNDAY: Jennifer Lang (Places We Left Behind)
DESCRIPTION:Hear Jennifer Lang read from Places We Left Behind: A Memoir in Miniature\, followed by a discussion with our flash editor Rae Pagliarulo and an audience Q&A. \nMore about the book: When American-born Jennifer falls in love with French-born Philippe during the First Intifada in Israel\, she understands their relationship isn’t perfect. Both 23\, both Jewish\, they lead very different lives: she’s a secular tourist\, he’s an observant immigrant. Despite their opposing outlooks on two fundamental issues — country and religion — they are determined to make it work. For the next 20 years\, they root and uproot their growing family\, each longing for a singular place to call home. \nIn Places We Left Behind\, Jennifer puts her marriage under a microscope\, examining commitment and compromise\, faith and family while moving between prose and poetry\, playing with language and form\, daring the reader to read between the lines. \nAbout the Series: Stories on Sundays are bi-monthly readings from a recent/forthcoming work of creative nonfiction followed by an author interview + audience Q&A. Your registration helps fund our contributor payments and other costs associated with running our journal. \nMeet the Speaker\nAn American-French-Israeli hybrid\, Jennifer writes about identity\, language\, home. While raising kids in the San Francisco Bay Area at the dawning of the internet\, she worked as copy editor/editor/content writer for BabyCenter\, PlanetRx\, and many other now obsolete .coms. But Jennifer dreamed of seeing her name on paper\, in print\, eventually writing for Parenting\, Parents\, Natural Solutions\, Scholastic\, Woman’s Day\, Real Simple. \nThen\, in the early 2000s\, something else caught her eye: the back-page essays. Who were these first-person voices and how did they tell such moving stories? Curious and on the opposite coast\, Jennifer enrolled in a creative nonfiction class: one\, which led to another\, and then another\, finally culminating in an MFA in writing from Vermont College of Fine Arts.
URL:https://www.hippocampusmagazine.com/event/stories-on-sunday-jennifer-lang-places-we-left-behind/
LOCATION:Online (Zoom Webinar)
CATEGORIES:Hippo Organizing,Online,Reading,Stories on Sunday
ATTACH;FMTTYPE=image/png:https://www.hippocampusmagazine.com/wp-content/uploads/2023/10/sunday-jennifer-e1701207336234.png
ORGANIZER;CN="Hippocampus Magazine and Books":MAILTO:hippocampusmagazine@gmail.com
END:VEVENT
END:VCALENDAR