BEGIN:VCALENDAR
VERSION:2.0
PRODID:-//Hippocampus Magazine - ECPv6.15.17.1//NONSGML v1.0//EN
CALSCALE:GREGORIAN
METHOD:PUBLISH
X-ORIGINAL-URL:https://www.hippocampusmagazine.com
X-WR-CALDESC:Events for Hippocampus Magazine
REFRESH-INTERVAL;VALUE=DURATION:PT1H
X-Robots-Tag:noindex
X-PUBLISHED-TTL:PT1H
BEGIN:VTIMEZONE
TZID:America/New_York
BEGIN:DAYLIGHT
TZOFFSETFROM:-0500
TZOFFSETTO:-0400
TZNAME:EDT
DTSTART:20240310T070000
END:DAYLIGHT
BEGIN:STANDARD
TZOFFSETFROM:-0400
TZOFFSETTO:-0500
TZNAME:EST
DTSTART:20241103T060000
END:STANDARD
BEGIN:DAYLIGHT
TZOFFSETFROM:-0500
TZOFFSETTO:-0400
TZNAME:EDT
DTSTART:20250309T070000
END:DAYLIGHT
BEGIN:STANDARD
TZOFFSETFROM:-0400
TZOFFSETTO:-0500
TZNAME:EST
DTSTART:20251102T060000
END:STANDARD
BEGIN:DAYLIGHT
TZOFFSETFROM:-0500
TZOFFSETTO:-0400
TZNAME:EDT
DTSTART:20260308T070000
END:DAYLIGHT
BEGIN:STANDARD
TZOFFSETFROM:-0400
TZOFFSETTO:-0500
TZNAME:EST
DTSTART:20261101T060000
END:STANDARD
END:VTIMEZONE
BEGIN:VEVENT
DTSTART;TZID=America/New_York:20250330T190000
DTEND;TZID=America/New_York:20250330T203000
DTSTAMP:20260421T220305
CREATED:20250211T212336Z
LAST-MODIFIED:20250330T184253Z
UID:63562-1743361200-1743366600@www.hippocampusmagazine.com
SUMMARY:STORIES ON SUNDAY: The One Who Loves You: Growing Up Biracial in a Black and White World (Shannon Luders-Manuel)
DESCRIPTION: Note: On mobile\, some users aren’t able to see the entire check-out form\, which is preventing the ability to add a quantity. We apologize for the issue. If you are unable to pre-register\, you can join in at this link\, staring at 7 p.m. ET: https://us06web.zoom.us/j/86819839055 In the meantime\, we have a support ticket into our event plug-in app as this is an issue with their code not adapting to mobile device screen size.  \nEnjoy a reading\, then hear the story behind the stories during Stories on Sunday with Shannon Luders-Manuel author of The One Who Loves You: Growing Up Biracial in a Black and White World. (Please note the date change! This is now scheduled for 3/30) \n\nAbout the Book: As a child\, Shannon Luders-Manuel felt like an outsider in every environment she entered. Born to a Black father and white mother who separated when she was three\, Luders-Manuel grew up with her white extended family\, in largely white areas of California. Throughout her life\, she yearned to understand her charismatic\, transient father—whose promises were rarely kept\, who struggled with alcohol and violence\, and whose love she desperately needed. How could she find a place among two worlds—one white and one Black—when they felt so different? \nLuders-Manuel sought guidance in Baptist religion\, becoming a born-again Christian at age fourteen\, and eventually found herself in an abusive relationship. When her father entered hospice care when she was just twenty-four\, she became his caretaker despite their long estrangement and hoped to find connection while she still could. Instead\, she learned that neither man nor God could give her the home she needed—she would have to build her own sense of self. \nThe One Who Loves You eloquently speaks not only to mixed-race individuals but to anyone who struggles with being labeled by others and to those who seek to reconcile the most contradictory parts of their own identities. \nWe hope you will join us! Note: All registered attendees will get a link to the recording\, so be sure to register even if you cannot make it life. \nAbout the Series: Stories on Sundays are bi-monthly readings from a recent/forthcoming work of creative nonfiction followed by an author interview + audience Q&A. Your registration helps fund our contributor payments and other costs associated with running our journal. \nMeet the Speaker\nShannon Luders-Manuel is the author of The One Who Loves You: A Memoir of Growing Up Biracial in a Black and White World\, published in February 2025 by Lawrence Hill Books\, an imprint of Chicago Review Press. Her work has appeared in The New York Times\, the Los Angeles Times\, JSTOR Daily\, and the Los Angeles Review of Books\, among others. She holds an M.A. in English literature from the University of Massachusetts\, Amherst\, and lives in Los Angeles. \nAll Stories on Sundays speakers have a connection to Hippocampus Magazine and Books; Shannon was a past scholarship recipient to our in-person conference for creative nonfiction writers\, HippoCamp.
URL:https://www.hippocampusmagazine.com/event/stories-on-sunday-shannon-luders-manuel/
LOCATION:Online (Zoom Webinar)
CATEGORIES:Hippo Organizing,Reading,Stories on Sunday
ATTACH;FMTTYPE=image/png:https://www.hippocampusmagazine.com/wp-content/uploads/2025/02/sunday-shannon-web-e1739309048407.png
ORGANIZER;CN="Hippocampus Magazine and Books":MAILTO:hippocampusmagazine@gmail.com
END:VEVENT
END:VCALENDAR