BEGIN:VCALENDAR
VERSION:2.0
PRODID:-//Hippocampus Magazine - ECPv6.15.17.1//NONSGML v1.0//EN
CALSCALE:GREGORIAN
METHOD:PUBLISH
X-WR-CALNAME:Hippocampus Magazine
X-ORIGINAL-URL:https://www.hippocampusmagazine.com
X-WR-CALDESC:Events for Hippocampus Magazine
REFRESH-INTERVAL;VALUE=DURATION:PT1H
X-Robots-Tag:noindex
X-PUBLISHED-TTL:PT1H
BEGIN:VTIMEZONE
TZID:America/New_York
BEGIN:DAYLIGHT
TZOFFSETFROM:-0500
TZOFFSETTO:-0400
TZNAME:EDT
DTSTART:20240310T070000
END:DAYLIGHT
BEGIN:STANDARD
TZOFFSETFROM:-0400
TZOFFSETTO:-0500
TZNAME:EST
DTSTART:20241103T060000
END:STANDARD
BEGIN:DAYLIGHT
TZOFFSETFROM:-0500
TZOFFSETTO:-0400
TZNAME:EDT
DTSTART:20250309T070000
END:DAYLIGHT
BEGIN:STANDARD
TZOFFSETFROM:-0400
TZOFFSETTO:-0500
TZNAME:EST
DTSTART:20251102T060000
END:STANDARD
BEGIN:DAYLIGHT
TZOFFSETFROM:-0500
TZOFFSETTO:-0400
TZNAME:EDT
DTSTART:20260308T070000
END:DAYLIGHT
BEGIN:STANDARD
TZOFFSETFROM:-0400
TZOFFSETTO:-0500
TZNAME:EST
DTSTART:20261101T060000
END:STANDARD
END:VTIMEZONE
BEGIN:VEVENT
DTSTART;TZID=America/New_York:20250427T180000
DTEND;TZID=America/New_York:20250427T191500
DTSTAMP:20260421T204153
CREATED:20250127T180020Z
LAST-MODIFIED:20250425T135413Z
UID:63416-1745776800-1745781300@www.hippocampusmagazine.com
SUMMARY:STORIES ON SUNDAY: No Offense: A Memoir in Essays (Jackie Domenus)
DESCRIPTION:Enjoy a reading\, then hear the story behind the stories during Stories on Sunday with Jackie Domenus\, author of No Offense: A Memoir in Essays.\n \nFrom the Jacket Copy: When Jackie “came out” in 2014\, right as the Trump era was revving up\, she began paying closer attention to the inappropriate questions\, uncomfortable reactions\, and pointed assumptions about sexuality and gender she was witnessing and now experiencing firsthand. \nNo Offense: A Memoir in Essays takes a magnifying glass to subtle moments that many people don’t recognize as homophobic or transphobic\, exploring the impact of microaggressions on LGBTQ+ folks. Blending personal essay and cultural critique\, the collection confronts society’s reactions to queerness at poignant moments in Jackie’s life\, from wedding planning to OBGYN appointments to the Pulse Nightclub Massacre\, and beyond. Revealing the complex and tender moments that sculpted their identity from a tomboy adolescence to gender exploration as an adult\, No Offense analyzes the loaded conversations queer and trans folks face every day on topics like labels\, haircuts\, Halloween costumes\, and more. \nWe hope you will join us! Note: All registered attendees will get a link to the recording\, so be sure to register even if you cannot make it life. \nAbout the Series: Stories on Sundays are bi-monthly readings from a recent/forthcoming work of creative nonfiction followed by an author interview + audience Q&A. Your registration helps fund our contributor payments and other costs associated with running our journal. \nMeet the Speaker \nJackie Domenus (they/she) is a queer writer from New Jersey. Their first book\, No Offense: A Memoir in Essays\, was released by ELJ Editions in Feb. 2025. A former Sundress Academy for the Arts resident and Tin House Workshop graduate\, Jackie’s work has appeared in The Normal School\, The Offing\, Pidgeonholes\, Foglifter Journal\, and elsewhere. \nAll Stories on Sundays speakers have a connection to Hippocampus Magazine and Books; Jackie was a past speaker at our in-person conference for creative nonfiction writers\, HippoCamp.
URL:https://www.hippocampusmagazine.com/event/stories-on-sunday-no-offense-a-memoir-in-essays-jackie-domenus/
LOCATION:Online (Zoom Webinar)
CATEGORIES:Hippo Organizing,Reading,Stories on Sunday
ATTACH;FMTTYPE=image/png:https://www.hippocampusmagazine.com/wp-content/uploads/2025/01/sunday-jackie-web-e1738000879272.png
ORGANIZER;CN="Hippocampus Magazine and Books":MAILTO:hippocampusmagazine@gmail.com
END:VEVENT
END:VCALENDAR