BEGIN:VCALENDAR
VERSION:2.0
PRODID:-//Hippocampus Magazine - ECPv6.15.20//NONSGML v1.0//EN
CALSCALE:GREGORIAN
METHOD:PUBLISH
X-ORIGINAL-URL:https://www.hippocampusmagazine.com
X-WR-CALDESC:Events for Hippocampus Magazine
REFRESH-INTERVAL;VALUE=DURATION:PT1H
X-Robots-Tag:noindex
X-PUBLISHED-TTL:PT1H
BEGIN:VTIMEZONE
TZID:America/New_York
BEGIN:DAYLIGHT
TZOFFSETFROM:-0500
TZOFFSETTO:-0400
TZNAME:EDT
DTSTART:20230312T070000
END:DAYLIGHT
BEGIN:STANDARD
TZOFFSETFROM:-0400
TZOFFSETTO:-0500
TZNAME:EST
DTSTART:20231105T060000
END:STANDARD
BEGIN:DAYLIGHT
TZOFFSETFROM:-0500
TZOFFSETTO:-0400
TZNAME:EDT
DTSTART:20240310T070000
END:DAYLIGHT
BEGIN:STANDARD
TZOFFSETFROM:-0400
TZOFFSETTO:-0500
TZNAME:EST
DTSTART:20241103T060000
END:STANDARD
BEGIN:DAYLIGHT
TZOFFSETFROM:-0500
TZOFFSETTO:-0400
TZNAME:EDT
DTSTART:20250309T070000
END:DAYLIGHT
BEGIN:STANDARD
TZOFFSETFROM:-0400
TZOFFSETTO:-0500
TZNAME:EST
DTSTART:20251102T060000
END:STANDARD
END:VTIMEZONE
BEGIN:VEVENT
DTSTART;TZID=America/New_York:20240317T190000
DTEND;TZID=America/New_York:20240317T201500
DTSTAMP:20260423T040308
CREATED:20230918T194540Z
LAST-MODIFIED:20240317T142057Z
UID:50962-1710702000-1710706500@www.hippocampusmagazine.com
SUMMARY:STORIES ON SUNDAY: Lara Lillibridge (The Truth About Unringing Phones)
DESCRIPTION: Note: if you’re reading this on mobile\, the full ticket instructions might not be showing in the ticket box above; to register\, add your chosen dollar amount and number of tickets using the + sign. (For a free ticket\, simply put in $0.) Ticket includes live event and access to recording. \nJoin us for a reading and conversation with Lara Lillbridge\, author of the new collection The Truth About Unringing Phones: Essays on Yearning. Lara will share excerpts from book and\, interspersed with the readings will be a conversation with Hippocampus Magazine founder/publisher Donna Talarico. We’ll talk about things like: \n\nHow to decide the order of essays in a collection\nWhen/how to change already-published essays to fit the collection\nUsing real names vs. aliases when writing about family\nThe hybrid elements in this collection\, whether sketches\, charts or unique forms\nWriting multiple books with overlapping themes/characters/life events\nSelf-preservation of writer-Lara while writing about the self-preservation of character-Lara\nAnd more — because there will be plenty of time for audience questions at the end!\n\nAbout the Book: When Lara was four years old\, her father moved from Rochester\, New York\, to Anchorage\, Alaska\, a distance of over 4\,000 miles. She spent her childhood chasing after him\, flying a quarter of the way around the world to tug at the hem of his jacket. Now that he is in his eighties\, she contemplates her obligation to an absentee father. \nThe Truth About Unringing Phones (March 2024; Unsolicited Press) is an exploration of responsibility and culpability told in experimental and fragmented essays. ​ \nAbout the Series: Stories on Sundays are bi-monthly readings from a recent/forthcoming work of creative nonfiction followed by an author interview + audience Q&A. Your registration helps fund our contributor payments and other costs associated with running our journal. \nAbout Our Speaker\nAll of our Stories on Sunday authors have a connection to Hippocampus Magazine. Lara Lillibridge (she/they) is a past contributor who has since joined our team as interviews editor. A champion for other writers\, Lara also won our inaugural Literary Citizen of the Year award presented at HippoCamp: A Conference for Creative Nonfiction Writers. She also has a chapter in our own craft anthology\, Getting to The Truth\, which is about blending genres and getting experimental with your CNF. \nIn addition to her new collection\, Lara is the author of Mama\, Mama\, Only Mama: An Irreverent Guide for the Newly Single Parent; Girlish: Growing Up in a Lesbian Home\, and she is co-editor of the anthology\, Feminine Rising.
URL:https://www.hippocampusmagazine.com/event/stories-on-sunday-lara-lillibridge/
LOCATION:Online (Zoom Webinar)
CATEGORIES:Hippo Organizing,Online,Reading,Stories on Sunday
ATTACH;FMTTYPE=image/png:https://www.hippocampusmagazine.com/wp-content/uploads/2023/09/sunday-lara-website.png
ORGANIZER;CN="Hippocampus Magazine and Books":MAILTO:hippocampusmagazine@gmail.com
END:VEVENT
END:VCALENDAR